BEGIN:VCALENDAR
VERSION:2.0
PRODID:-//TYPO3/NONSGML Calendarize//EN
BEGIN:VEVENT
UID:calendarize-tsc-mainleus-2-ssv-peesten
DTSTAMP:20260421T085418Z
DTSTART:20260426T110000Z
DTEND:20260426T124500Z
SUMMARY:TSC Mainleus 2 - SSV Peesten
DESCRIPTION:
X-ALT-DESC;FMTTYPE=text/html:
LOCATION:Sportanlage Mainleus\, Platz 1\,Holzstr. 3a\,95336 Mainleus
END:VEVENT
END:VCALENDAR
