BEGIN:VCALENDAR
VERSION:2.0
PRODID:-//TYPO3/NONSGML Calendarize//EN
BEGIN:VEVENT
UID:calendarize-sv-motschenbach-3-ssv-peesten-2
DTSTAMP:20260421T085555Z
DTSTART:20260503T090000Z
DTEND:20260503T104500Z
SUMMARY:SV Motschenbach 3 - SSV Peesten 2
DESCRIPTION:
X-ALT-DESC;FMTTYPE=text/html:
LOCATION:Sportanlage Motschenbach\, Platz 1\,Motschenbach 10\,95336 Mainle
 us
END:VEVENT
END:VCALENDAR
