BEGIN:VCALENDAR
VERSION:2.0
PRODID:-//TYPO3/NONSGML Calendarize//EN
BEGIN:VEVENT
UID:calendarize-ssv-peesten-tsv-stadtsteinach
DTSTAMP:20260419T161914Z
DTSTART:20260503T130000Z
DTEND:20260503T144500Z
SUMMARY:SSV Peesten - TSV Stadtsteinach
DESCRIPTION:
X-ALT-DESC;FMTTYPE=text/html:
LOCATION:Sportanlage Peesten\,Peesten 92\,95359 Kasendorf
END:VEVENT
END:VCALENDAR
