BEGIN:VCALENDAR
VERSION:2.0
PRODID:-//TYPO3/NONSGML Calendarize//EN
BEGIN:VEVENT
UID:calendarize-ssv-peesten-tdc-lindau-3
DTSTAMP:20260419T133835Z
DTSTART:20260419T130000Z
DTEND:20260419T144500Z
SUMMARY:SSV Peesten - TDC Lindau 3
DESCRIPTION:
X-ALT-DESC;FMTTYPE=text/html:
LOCATION:Sportanlage Peesten\,Peesten 92\,95359 Kasendorf
END:VEVENT
END:VCALENDAR
