BEGIN:VCALENDAR
VERSION:2.0
PRODID:-//TYPO3/NONSGML Calendarize//EN
BEGIN:VEVENT
UID:calendarize-ssv-peesten-2-tsv-1920-trebgast-ii
DTSTAMP:20260420T075929Z
DTSTART:20260417T161500Z
DTEND:20260417T180000Z
SUMMARY:SSV Peesten 2 - TSV 1920 Trebgast II
DESCRIPTION:
X-ALT-DESC;FMTTYPE=text/html:
LOCATION:Sportanlage Peesten\,Peesten 92\,95359 Kasendorf
END:VEVENT
END:VCALENDAR
