BEGIN:VCALENDAR
VERSION:2.0
PRODID:-//TYPO3/NONSGML Calendarize//EN
BEGIN:VEVENT
UID:calendarize-ssv-peesten-2-sg1-rugendorf-losau-ii-stadtsteinach-ii
DTSTAMP:20260419T161711Z
DTSTART:20260510T110000Z
DTEND:20260510T124500Z
SUMMARY:SSV Peesten 2 - (SG1) Rugendorf/Losau II/Stadtsteinach II
DESCRIPTION:
X-ALT-DESC;FMTTYPE=text/html:
LOCATION:Sportanlage Peesten\,Peesten 92\,95359 Kasendorf
END:VEVENT
END:VCALENDAR
