BEGIN:VCALENDAR
VERSION:2.0
PRODID:-//TYPO3/NONSGML Calendarize//EN
BEGIN:VEVENT
UID:calendarize-bc-leuchau-2-ssv-peesten-2
DTSTAMP:20260419T161422Z
DTSTART:20260419T140000Z
DTEND:20260419T154500Z
SUMMARY:BC Leuchau 2 - SSV Peesten 2
DESCRIPTION:
X-ALT-DESC;FMTTYPE=text/html:
LOCATION:Sportanlage Leuchau\, Platz 1\,Lindauer Str. 26\,95326 Kulmbach
END:VEVENT
END:VCALENDAR
