BEGIN:VCALENDAR
VERSION:2.0
PRODID:-//TYPO3/NONSGML Calendarize//EN
BEGIN:VEVENT
UID:calendarize-ats-wartenfels-2-ssv-peesten-2
DTSTAMP:20260419T162530Z
DTSTART:20260517T140000Z
DTEND:20260517T154500Z
SUMMARY:ATS Wartenfels 2 - SSV Peesten 2
DESCRIPTION:
X-ALT-DESC;FMTTYPE=text/html:
LOCATION:Sportanlage Wartenfels\, Platz 1\,Wartenfels Hausnr. 149\,95355 P
 resseck
END:VEVENT
END:VCALENDAR
